

BEGIN:VCALENDAR
VERSION:2.0
PRODID:-//groovement - ECPv6.15.20//NONSGML v1.0//EN
CALSCALE:GREGORIAN
METHOD:PUBLISH
X-WR-CALNAME:groovement
X-ORIGINAL-URL:https://groovement.co.uk
X-WR-CALDESC:Events for groovement
REFRESH-INTERVAL;VALUE=DURATION:PT1H
X-Robots-Tag:noindex
X-PUBLISHED-TTL:PT1H
BEGIN:VTIMEZONE
TZID:Europe/London
BEGIN:DAYLIGHT
TZOFFSETFROM:+0000
TZOFFSETTO:+0100
TZNAME:BST
DTSTART:20200329T010000
END:DAYLIGHT
BEGIN:STANDARD
TZOFFSETFROM:+0100
TZOFFSETTO:+0000
TZNAME:GMT
DTSTART:20201025T010000
END:STANDARD
BEGIN:DAYLIGHT
TZOFFSETFROM:+0000
TZOFFSETTO:+0100
TZNAME:BST
DTSTART:20210328T010000
END:DAYLIGHT
BEGIN:STANDARD
TZOFFSETFROM:+0100
TZOFFSETTO:+0000
TZNAME:GMT
DTSTART:20211031T010000
END:STANDARD
BEGIN:DAYLIGHT
TZOFFSETFROM:+0000
TZOFFSETTO:+0100
TZNAME:BST
DTSTART:20220327T010000
END:DAYLIGHT
BEGIN:STANDARD
TZOFFSETFROM:+0100
TZOFFSETTO:+0000
TZNAME:GMT
DTSTART:20221030T010000
END:STANDARD
END:VTIMEZONE
BEGIN:VEVENT
DTSTART;TZID=Europe/London:20210601T190000
DTEND;TZID=Europe/London:20210601T190000
DTSTAMP:20260421T122309
CREATED:20210407T193610Z
LAST-MODIFIED:20210413T221854Z
UID:29804-1622574000-1622574000@groovement.co.uk
SUMMARY:A Night of Sade\, performed by Yemi Bolatiwa @ Blues Kitchen
DESCRIPTION:Image: Charlotte Wellings \nManchester based vocalist Yemi Bolatiwa has put together a seven-piece band to perform a collection Sade’s seminal tracks across two live shows.\nBoost the signal:\n				Click to share on X (Opens in new window)\n				X\n			\n				Click to share on Facebook (Opens in new window)\n				Facebook\n			\n				Click to share on WhatsApp (Opens in new window)\n				WhatsApp
URL:https://groovement.co.uk/listing/a-night-of-sade-performed-by-yemi-bolatiwa/
LOCATION:The Blues Kitchen\, 13 Quay St\, Manchester\, M3 3HN\, United Kingdom
CATEGORIES:Live Gig
ATTACH;FMTTYPE=image/jpeg:https://groovement.co.uk/wp-content/uploads/2021/04/yemi-1.jpg
END:VEVENT
BEGIN:VEVENT
DTSTART;VALUE=DATE:20210602
DTEND;VALUE=DATE:20210603
DTSTAMP:20260421T122309
CREATED:20210407T223203Z
LAST-MODIFIED:20210407T232757Z
UID:29813-1622610000-1622678399@groovement.co.uk
SUMMARY:Moods of Marvin with Kemani Anderson & The Soul City Five
DESCRIPTION:Boost the signal:\n				Click to share on X (Opens in new window)\n				X\n			\n				Click to share on Facebook (Opens in new window)\n				Facebook\n			\n				Click to share on WhatsApp (Opens in new window)\n				WhatsApp
URL:https://groovement.co.uk/listing/moods-of-marvin-with-kemani-anderson-the-soul-city-five/
LOCATION:The Blues Kitchen\, 13 Quay St\, Manchester\, M3 3HN\, United Kingdom
CATEGORIES:Live Gig
ATTACH;FMTTYPE=image/jpeg:https://groovement.co.uk/wp-content/uploads/2021/04/ka.jpg
END:VEVENT
BEGIN:VEVENT
DTSTART;VALUE=DATE:20210603
DTEND;VALUE=DATE:20210604
DTSTAMP:20260421T122309
CREATED:20210407T223305Z
LAST-MODIFIED:20210407T233113Z
UID:29815-1622696400-1622764799@groovement.co.uk
SUMMARY:Sicaria Sound
DESCRIPTION:Boost the signal:\n				Click to share on X (Opens in new window)\n				X\n			\n				Click to share on Facebook (Opens in new window)\n				Facebook\n			\n				Click to share on WhatsApp (Opens in new window)\n				WhatsApp
URL:https://groovement.co.uk/listing/sicaria-sound/
LOCATION:The Blues Kitchen\, 13 Quay St\, Manchester\, M3 3HN\, United Kingdom
CATEGORIES:Live Gig
ATTACH;FMTTYPE=image/jpeg:https://groovement.co.uk/wp-content/uploads/2021/04/ss.jpg
END:VEVENT
BEGIN:VEVENT
DTSTART;VALUE=DATE:20210608
DTEND;VALUE=DATE:20210609
DTSTAMP:20260421T122309
CREATED:20210407T223533Z
LAST-MODIFIED:20210407T232439Z
UID:29817-1623128400-1623196799@groovement.co.uk
SUMMARY:Agbeko
DESCRIPTION:Boost the signal:\n				Click to share on X (Opens in new window)\n				X\n			\n				Click to share on Facebook (Opens in new window)\n				Facebook\n			\n				Click to share on WhatsApp (Opens in new window)\n				WhatsApp
URL:https://groovement.co.uk/listing/agbeko/
LOCATION:The Blues Kitchen\, 13 Quay St\, Manchester\, M3 3HN\, United Kingdom
CATEGORIES:Live Gig
ATTACH;FMTTYPE=image/jpeg:https://groovement.co.uk/wp-content/uploads/2020/03/agbekofull.jpg
END:VEVENT
BEGIN:VEVENT
DTSTART;VALUE=DATE:20210609
DTEND;VALUE=DATE:20210610
DTSTAMP:20260421T122309
CREATED:20210407T233307Z
LAST-MODIFIED:20210407T234941Z
UID:29843-1623214800-1623283199@groovement.co.uk
SUMMARY:Goya Gumbani
DESCRIPTION:Boost the signal:\n				Click to share on X (Opens in new window)\n				X\n			\n				Click to share on Facebook (Opens in new window)\n				Facebook\n			\n				Click to share on WhatsApp (Opens in new window)\n				WhatsApp
URL:https://groovement.co.uk/listing/goya-gumbani/
LOCATION:The Blues Kitchen\, 13 Quay St\, Manchester\, M3 3HN\, United Kingdom
ATTACH;FMTTYPE=image/jpeg:https://groovement.co.uk/wp-content/uploads/2021/04/gg.jpeg
END:VEVENT
BEGIN:VEVENT
DTSTART;VALUE=DATE:20210610
DTEND;VALUE=DATE:20210611
DTSTAMP:20260421T122309
CREATED:20210407T233409Z
LAST-MODIFIED:20210407T233520Z
UID:29846-1623301200-1623369599@groovement.co.uk
SUMMARY:Ebi Soda
DESCRIPTION:Boost the signal:\n				Click to share on X (Opens in new window)\n				X\n			\n				Click to share on Facebook (Opens in new window)\n				Facebook\n			\n				Click to share on WhatsApp (Opens in new window)\n				WhatsApp
URL:https://groovement.co.uk/listing/ebi-soda/
LOCATION:The Blues Kitchen\, 13 Quay St\, Manchester\, M3 3HN\, United Kingdom
ATTACH;FMTTYPE=image/jpeg:https://groovement.co.uk/wp-content/uploads/2021/04/es.jpg
END:VEVENT
BEGIN:VEVENT
DTSTART;VALUE=DATE:20210611
DTEND;VALUE=DATE:20210612
DTSTAMP:20260421T122309
CREATED:20210407T225324Z
LAST-MODIFIED:20210407T230349Z
UID:29820-1623387600-1623420000@groovement.co.uk
SUMMARY:MJF: Yemi Bolatiwa\, Mr Wilson’s Second Liners\, Rebecca Nash
DESCRIPTION:DJs\nPablo Blanquito\nDanielle Moore \nManchester Jazz Festival Day 1 \nBoost the signal:\n				Click to share on X (Opens in new window)\n				X\n			\n				Click to share on Facebook (Opens in new window)\n				Facebook\n			\n				Click to share on WhatsApp (Opens in new window)\n				WhatsApp
URL:https://groovement.co.uk/listing/mjf-yemi-bolatiwa-mr-wilsons-second-liners-rebecca-nash/
LOCATION:Escape To Freight Island\, Manchester\, M1 2PZ
CATEGORIES:Live Gig
ATTACH;FMTTYPE=image/jpeg:https://groovement.co.uk/wp-content/uploads/2021/04/yemi.jpg
END:VEVENT
BEGIN:VEVENT
DTSTART;VALUE=DATE:20210612
DTEND;VALUE=DATE:20210613
DTSTAMP:20260421T122309
CREATED:20210407T230252Z
LAST-MODIFIED:20210407T230842Z
UID:29825-1623474000-1623542399@groovement.co.uk
SUMMARY:MJF: Nubiyan Twist\, Camilla George\, Yaatri
DESCRIPTION:+\nBack Chat Brass\, Young Pilgrims\n+\nRafe’s Dilemma\, Marco Woolf \nDJs\nDebra Richards (Worldwide FM)\nHarkirit Boparai (Jazzdance!) \nManchester Jazz Festival Day 2 \nBoost the signal:\n				Click to share on X (Opens in new window)\n				X\n			\n				Click to share on Facebook (Opens in new window)\n				Facebook\n			\n				Click to share on WhatsApp (Opens in new window)\n				WhatsApp
URL:https://groovement.co.uk/listing/mjf-nubiyan-twist-camilla-george-yaatri/
LOCATION:Escape To Freight Island\, Manchester\, M1 2PZ
CATEGORIES:Live Gig
ATTACH;FMTTYPE=image/jpeg:https://groovement.co.uk/wp-content/uploads/2021/04/nt.jpg
END:VEVENT
BEGIN:VEVENT
DTSTART;VALUE=DATE:20210613
DTEND;VALUE=DATE:20210614
DTSTAMP:20260421T122310
CREATED:20210407T232401Z
LAST-MODIFIED:20210407T232929Z
UID:29836-1623560400-1623628799@groovement.co.uk
SUMMARY:MJF: Mali Hayes + Untold Orchestra\, Ubunye\, Binker Golding Band
DESCRIPTION:Twisted Tubes\, Break Out Brass\n+\nNishla Smith Quintet\, John Pope Quintet \nDJs\nFrom MCR With Love: Jenna G \nManchester Jazz Festival Day 3 \nPic credit: Jamal Akbar Photography \nBoost the signal:\n				Click to share on X (Opens in new window)\n				X\n			\n				Click to share on Facebook (Opens in new window)\n				Facebook\n			\n				Click to share on WhatsApp (Opens in new window)\n				WhatsApp
URL:https://groovement.co.uk/listing/mjf-mali-hayes-untold-orchestra-ubunye-binker-golding-band/
LOCATION:Escape To Freight Island\, Manchester\, M1 2PZ
CATEGORIES:Live Gig
ATTACH;FMTTYPE=image/jpeg:https://groovement.co.uk/wp-content/uploads/2021/04/mali.jpg
END:VEVENT
BEGIN:VEVENT
DTSTART;VALUE=DATE:20210616
DTEND;VALUE=DATE:20210617
DTSTAMP:20260421T122310
CREATED:20210407T233615Z
LAST-MODIFIED:20210407T233641Z
UID:29849-1623819600-1623887999@groovement.co.uk
SUMMARY:Secret Night Gang
DESCRIPTION:Boost the signal:\n				Click to share on X (Opens in new window)\n				X\n			\n				Click to share on Facebook (Opens in new window)\n				Facebook\n			\n				Click to share on WhatsApp (Opens in new window)\n				WhatsApp
URL:https://groovement.co.uk/listing/secret-night-gang/
LOCATION:The Blues Kitchen\, 13 Quay St\, Manchester\, M3 3HN\, United Kingdom
CATEGORIES:Live Gig
ATTACH;FMTTYPE=image/jpeg:https://groovement.co.uk/wp-content/uploads/2021/04/sng.jpg
END:VEVENT
BEGIN:VEVENT
DTSTART;VALUE=DATE:20210621
DTEND;VALUE=DATE:20210622
DTSTAMP:20260421T122310
CREATED:20210408T091215Z
LAST-MODIFIED:20210408T091452Z
UID:29882-1624251600-1624319999@groovement.co.uk
SUMMARY:LVL 53: LEVELZ lockdown liftoff
DESCRIPTION:Boost the signal:\n				Click to share on X (Opens in new window)\n				X\n			\n				Click to share on Facebook (Opens in new window)\n				Facebook\n			\n				Click to share on WhatsApp (Opens in new window)\n				WhatsApp
URL:https://groovement.co.uk/listing/lvl-53-levelz-lockdown-liftoff/
LOCATION:Mint Lounge\, 46-50 Oldham Street\, Manchester
CATEGORIES:Club Night
ATTACH;FMTTYPE=image/jpeg:https://groovement.co.uk/wp-content/uploads/2021/04/LVL53.jpeg
END:VEVENT
BEGIN:VEVENT
DTSTART;VALUE=DATE:20210625
DTEND;VALUE=DATE:20210626
DTSTAMP:20260421T122310
CREATED:20210407T235527Z
LAST-MODIFIED:20210407T235527Z
UID:29863-1624597200-1624665599@groovement.co.uk
SUMMARY:HIT & RUN: RETURN OF THE RAVE
DESCRIPTION:Boost the signal:\n				Click to share on X (Opens in new window)\n				X\n			\n				Click to share on Facebook (Opens in new window)\n				Facebook\n			\n				Click to share on WhatsApp (Opens in new window)\n				WhatsApp
URL:https://groovement.co.uk/listing/hit-run-return-of-the-rave/
LOCATION:Hidden\, DownTex Mill 16-18 Mary Street\, Cheetham Hill\, Manchester\, M3 1NH
ATTACH;FMTTYPE=image/jpeg:https://groovement.co.uk/wp-content/uploads/2021/04/hr1.jpg
END:VEVENT
BEGIN:VEVENT
DTSTART;TZID=Europe/London:20210628T190000
DTEND;TZID=Europe/London:20210628T190000
DTSTAMP:20260421T122310
CREATED:20210407T233744Z
LAST-MODIFIED:20210413T222019Z
UID:29852-1624906800-1624906800@groovement.co.uk
SUMMARY:KinKai @ Blues Kitchen
DESCRIPTION:Boost the signal:\n				Click to share on X (Opens in new window)\n				X\n			\n				Click to share on Facebook (Opens in new window)\n				Facebook\n			\n				Click to share on WhatsApp (Opens in new window)\n				WhatsApp
URL:https://groovement.co.uk/listing/kinkai/
LOCATION:The Blues Kitchen\, 13 Quay St\, Manchester\, M3 3HN\, United Kingdom
CATEGORIES:Live Gig
ATTACH;FMTTYPE=image/jpeg:https://groovement.co.uk/wp-content/uploads/2021/04/kk.jpg
END:VEVENT
BEGIN:VEVENT
DTSTART;VALUE=DATE:20210630
DTEND;VALUE=DATE:20210702
DTSTAMP:20260421T122310
CREATED:20210407T233952Z
LAST-MODIFIED:20210407T234046Z
UID:29854-1625029200-1625183999@groovement.co.uk
SUMMARY:Stone Foundation
DESCRIPTION:2 nights \nBoost the signal:\n				Click to share on X (Opens in new window)\n				X\n			\n				Click to share on Facebook (Opens in new window)\n				Facebook\n			\n				Click to share on WhatsApp (Opens in new window)\n				WhatsApp
URL:https://groovement.co.uk/listing/stone-foundation/
LOCATION:The Blues Kitchen\, 13 Quay St\, Manchester\, M3 3HN\, United Kingdom
ATTACH;FMTTYPE=image/jpeg:https://groovement.co.uk/wp-content/uploads/2021/04/stone.jpg
END:VEVENT
END:VCALENDAR