

BEGIN:VCALENDAR
VERSION:2.0
PRODID:-//groovement - ECPv6.15.20//NONSGML v1.0//EN
CALSCALE:GREGORIAN
METHOD:PUBLISH
X-ORIGINAL-URL:https://groovement.co.uk
X-WR-CALDESC:Events for groovement
REFRESH-INTERVAL;VALUE=DURATION:PT1H
X-Robots-Tag:noindex
X-PUBLISHED-TTL:PT1H
BEGIN:VTIMEZONE
TZID:Europe/London
BEGIN:DAYLIGHT
TZOFFSETFROM:+0000
TZOFFSETTO:+0100
TZNAME:BST
DTSTART:20200329T010000
END:DAYLIGHT
BEGIN:STANDARD
TZOFFSETFROM:+0100
TZOFFSETTO:+0000
TZNAME:GMT
DTSTART:20201025T010000
END:STANDARD
BEGIN:DAYLIGHT
TZOFFSETFROM:+0000
TZOFFSETTO:+0100
TZNAME:BST
DTSTART:20210328T010000
END:DAYLIGHT
BEGIN:STANDARD
TZOFFSETFROM:+0100
TZOFFSETTO:+0000
TZNAME:GMT
DTSTART:20211031T010000
END:STANDARD
BEGIN:DAYLIGHT
TZOFFSETFROM:+0000
TZOFFSETTO:+0100
TZNAME:BST
DTSTART:20220327T010000
END:DAYLIGHT
BEGIN:STANDARD
TZOFFSETFROM:+0100
TZOFFSETTO:+0000
TZNAME:GMT
DTSTART:20221030T010000
END:STANDARD
END:VTIMEZONE
BEGIN:VEVENT
DTSTART;VALUE=DATE:20210520
DTEND;VALUE=DATE:20210521
DTSTAMP:20260421T153305
CREATED:20210407T222907Z
LAST-MODIFIED:20210407T230957Z
UID:29808-1621486800-1621555199@groovement.co.uk
SUMMARY:The Story of Nina Simone performed by Acantha Lang
DESCRIPTION:Boost the signal:\n				Click to share on X (Opens in new window)\n				X\n			\n				Click to share on Facebook (Opens in new window)\n				Facebook\n			\n				Click to share on WhatsApp (Opens in new window)\n				WhatsApp
URL:https://groovement.co.uk/listing/the-story-of-nina-simone-performed-by-acantha-lang/
LOCATION:The Blues Kitchen\, 13 Quay St\, Manchester\, M3 3HN\, United Kingdom
CATEGORIES:Live Gig
ATTACH;FMTTYPE=image/jpeg:https://groovement.co.uk/wp-content/uploads/2021/04/al.jpg
END:VEVENT
BEGIN:VEVENT
DTSTART;VALUE=DATE:20210526
DTEND;VALUE=DATE:20210528
DTSTAMP:20260421T153305
CREATED:20210407T223044Z
LAST-MODIFIED:20210407T231126Z
UID:29810-1622005200-1622159999@groovement.co.uk
SUMMARY:Dele Sosimi Afrobeat Quartet
DESCRIPTION:2 nights \nBoost the signal:\n				Click to share on X (Opens in new window)\n				X\n			\n				Click to share on Facebook (Opens in new window)\n				Facebook\n			\n				Click to share on WhatsApp (Opens in new window)\n				WhatsApp
URL:https://groovement.co.uk/listing/dele-sosimi-afrobeat-quartet/
LOCATION:The Blues Kitchen\, 13 Quay St\, Manchester\, M3 3HN\, United Kingdom
CATEGORIES:Live Gig
ATTACH;FMTTYPE=image/jpeg:https://groovement.co.uk/wp-content/uploads/2021/04/dsq.jpg
END:VEVENT
END:VCALENDAR