

BEGIN:VCALENDAR
VERSION:2.0
PRODID:-//groovement - ECPv6.15.20//NONSGML v1.0//EN
CALSCALE:GREGORIAN
METHOD:PUBLISH
X-ORIGINAL-URL:https://groovement.co.uk
X-WR-CALDESC:Events for groovement
REFRESH-INTERVAL;VALUE=DURATION:PT1H
X-Robots-Tag:noindex
X-PUBLISHED-TTL:PT1H
BEGIN:VTIMEZONE
TZID:Europe/London
BEGIN:DAYLIGHT
TZOFFSETFROM:+0000
TZOFFSETTO:+0100
TZNAME:BST
DTSTART:20230326T010000
END:DAYLIGHT
BEGIN:STANDARD
TZOFFSETFROM:+0100
TZOFFSETTO:+0000
TZNAME:GMT
DTSTART:20231029T010000
END:STANDARD
BEGIN:DAYLIGHT
TZOFFSETFROM:+0000
TZOFFSETTO:+0100
TZNAME:BST
DTSTART:20240331T010000
END:DAYLIGHT
BEGIN:STANDARD
TZOFFSETFROM:+0100
TZOFFSETTO:+0000
TZNAME:GMT
DTSTART:20241027T010000
END:STANDARD
BEGIN:DAYLIGHT
TZOFFSETFROM:+0000
TZOFFSETTO:+0100
TZNAME:BST
DTSTART:20250330T010000
END:DAYLIGHT
BEGIN:STANDARD
TZOFFSETFROM:+0100
TZOFFSETTO:+0000
TZNAME:GMT
DTSTART:20251026T010000
END:STANDARD
BEGIN:DAYLIGHT
TZOFFSETFROM:+0000
TZOFFSETTO:+0100
TZNAME:BST
DTSTART:20260329T010000
END:DAYLIGHT
BEGIN:STANDARD
TZOFFSETFROM:+0100
TZOFFSETTO:+0000
TZNAME:GMT
DTSTART:20261025T010000
END:STANDARD
BEGIN:DAYLIGHT
TZOFFSETFROM:+0000
TZOFFSETTO:+0100
TZNAME:BST
DTSTART:20270328T010000
END:DAYLIGHT
BEGIN:STANDARD
TZOFFSETFROM:+0100
TZOFFSETTO:+0000
TZNAME:GMT
DTSTART:20271031T010000
END:STANDARD
END:VTIMEZONE
BEGIN:VEVENT
DTSTART;TZID=Europe/London:20260129T190000
DTEND;TZID=Europe/London:20260129T190000
DTSTAMP:20260425T002923
CREATED:20260110T152712Z
LAST-MODIFIED:20260110T163048Z
UID:36217-1769713200-1769713200@groovement.co.uk
SUMMARY:Kofi Stone (rescheduled)
DESCRIPTION:Playground rap battles\, handmade mixtape cover art and a Birmingham upbringing are just a few of the elements that make Kofi Stone a captivating artist. His pairs a laidback delivery with substantial lyrical content\, touching on topics from family structures to the repetitive state of rap culture. Whatever he turns his tongue to\, his work with producers such as Jake Milliner and fellow Brummie Joe Corfield has shaped a sound that merges the best of ’90s hip-hop with golden cuts from mid-century jazz. \n\n\n\nTICKETS \n\n\n\n\n\n\n\n\nBoost the signal:\n				Click to share on X (Opens in new window)\n				X\n			\n				Click to share on Facebook (Opens in new window)\n				Facebook\n			\n				Click to share on WhatsApp (Opens in new window)\n				WhatsApp
URL:https://groovement.co.uk/listing/kofi-stone-2/
CATEGORIES:HIP HOP GIGS,JAZZ GIGS,SOUL GIGS
ATTACH;FMTTYPE=image/jpeg:https://groovement.co.uk/wp-content/uploads/2026/01/kofi.jpg
END:VEVENT
BEGIN:VEVENT
DTSTART;TZID=Europe/London:20251016T190000
DTEND;TZID=Europe/London:20251016T190000
DTSTAMP:20260425T002923
CREATED:20250203T024515Z
LAST-MODIFIED:20250203T024516Z
UID:34705-1760641200-1760641200@groovement.co.uk
SUMMARY:Cymande / Albert Hall
DESCRIPTION:Back with their first LP since 1974… \n\n\n\n \n\n\n\n\n\n\n\n\n\n\n\n\n\n\nBoost the signal:\n				Click to share on X (Opens in new window)\n				X\n			\n				Click to share on Facebook (Opens in new window)\n				Facebook\n			\n				Click to share on WhatsApp (Opens in new window)\n				WhatsApp
URL:https://groovement.co.uk/listing/cymande-albert-hall/
LOCATION:Albert Hall\, 27 Peter St\, Manchester\, M2 5QR
CATEGORIES:JAZZ GIGS,Live Gig
ATTACH;FMTTYPE=image/png:https://groovement.co.uk/wp-content/uploads/2025/02/Cymande-UK-SQ.png
END:VEVENT
BEGIN:VEVENT
DTSTART;TZID=Europe/London:20250910T190000
DTEND;TZID=Europe/London:20250910T190000
DTSTAMP:20260425T002923
CREATED:20250831T110253Z
LAST-MODIFIED:20250831T111010Z
UID:35490-1757530800-1757530800@groovement.co.uk
SUMMARY:Surprise Chef / YES
DESCRIPTION:Boost the signal:\n				Click to share on X (Opens in new window)\n				X\n			\n				Click to share on Facebook (Opens in new window)\n				Facebook\n			\n				Click to share on WhatsApp (Opens in new window)\n				WhatsApp
URL:https://groovement.co.uk/listing/surprise-chef-yes/
LOCATION:YES\, 38 Charles Street\, Manchester\, M1 7DB
CATEGORIES:JAZZ GIGS,Live Gig,SOUL GIGS
ATTACH;FMTTYPE=image/jpeg:https://groovement.co.uk/wp-content/uploads/2025/08/SC.jpg
END:VEVENT
BEGIN:VEVENT
DTSTART;TZID=Europe/London:20250404T190000
DTEND;TZID=Europe/London:20250404T190000
DTSTAMP:20260425T002923
CREATED:20250203T030934Z
LAST-MODIFIED:20250203T030935Z
UID:34723-1743793200-1743793200@groovement.co.uk
SUMMARY:Kamasi Washington / Albert Hall
DESCRIPTION:Rescheduled date.  \n\n\n\n\n\n\n\n\n\n\n\n\n\n\nBoost the signal:\n				Click to share on X (Opens in new window)\n				X\n			\n				Click to share on Facebook (Opens in new window)\n				Facebook\n			\n				Click to share on WhatsApp (Opens in new window)\n				WhatsApp
URL:https://groovement.co.uk/listing/kamasi-washington-albert-hall-2/
LOCATION:Albert Hall\, 27 Peter St\, Manchester\, M2 5QR
CATEGORIES:JAZZ GIGS,Live Gig
ATTACH;FMTTYPE=image/png:https://groovement.co.uk/wp-content/uploads/2025/02/kamasi.png
END:VEVENT
BEGIN:VEVENT
DTSTART;TZID=Europe/London:20250315T190000
DTEND;TZID=Europe/London:20250315T190000
DTSTAMP:20260425T002923
CREATED:20250203T031425Z
LAST-MODIFIED:20250203T031426Z
UID:34726-1742065200-1742065200@groovement.co.uk
SUMMARY:Nubiyan Twist & Plantfood / Band On The Wall
DESCRIPTION:Boost the signal:\n				Click to share on X (Opens in new window)\n				X\n			\n				Click to share on Facebook (Opens in new window)\n				Facebook\n			\n				Click to share on WhatsApp (Opens in new window)\n				WhatsApp
URL:https://groovement.co.uk/listing/nubiyan-twist-plantfood-band-on-the-wall/
LOCATION:Band On The Wall\, 27 Swan St\, Manchester\, M4 5JZ\, United Kingdom
CATEGORIES:JAZZ GIGS,Live Gig
ATTACH;FMTTYPE=image/jpeg:https://groovement.co.uk/wp-content/uploads/2025/02/nt.jpg
END:VEVENT
BEGIN:VEVENT
DTSTART;TZID=Europe/London:20250126T190000
DTEND;TZID=Europe/London:20250126T190000
DTSTAMP:20260425T002923
CREATED:20250116T203755Z
LAST-MODIFIED:20250116T204122Z
UID:34181-1737918000-1737918000@groovement.co.uk
SUMMARY:Femi Kuti & The Positive Force Band / Band On The Wall
DESCRIPTION:Band on the Wall is thrilled to present the Afrobeat icon Femi Kuti. Renowned for his relentless energy and powerful\, vibrant performances\, Femi continues to captivate audiences worldwide with his thought-provoking messages and exhilarating shows.  \n\n\n\n\n\n\n\nIn 2021\, he released Legacy +\, a double album on Partisan Records. This special collection features Stop The Hate\, his latest work\, alongside For(e)ward\, the debut album from his eldest son\, Made Kuti. Stop The Hate showcases Femi’s signature Afrobeat sound\, honed over a storied career\, and reflects his unwavering commitment to political and social activism. The track PaPaPa  received glowing acclaim from top international critics and earned a nomination at the 2022 Grammy Awards. Despite his tireless efforts for social justice\, Femi’s boundless passion and drive remain undiminished. His advocacy for global causes has been both tireless and impactful\, with his recent performances serving as a testament to his influence and brilliance. A sought-after collaborator\, Femi Kuti has worked with an array of artists\, from Coldplay to electronic producer Robert Hood and French hip-hop group IAM. Don’t miss this incredible opportunity to see Femi Kuti and his ensemble\, The Positive Force\, as they bring an electrifying celebration of Africa to the UK. A Band on the Wall fundraiserBar open: 5.00pmArtists on stage: 7.30pmCurfew: 11.00pmStage: The Venue \n\n\n\n\n\n\n\n\n\n\nBoost the signal:\n				Click to share on X (Opens in new window)\n				X\n			\n				Click to share on Facebook (Opens in new window)\n				Facebook\n			\n				Click to share on WhatsApp (Opens in new window)\n				WhatsApp
URL:https://groovement.co.uk/listing/femi-kuti-the-positive-force-band-band-on-the-wall/
LOCATION:Band On The Wall\, 27 Swan St\, Manchester\, M4 5JZ\, United Kingdom
CATEGORIES:JAZZ GIGS,Live Gig,SOUL GIGS
ATTACH;FMTTYPE=image/jpeg:https://groovement.co.uk/wp-content/uploads/2025/01/FEMI-KUTI-MANCHESTER-1.jpg
END:VEVENT
BEGIN:VEVENT
DTSTART;TZID=Europe/London:20241127T190000
DTEND;TZID=Europe/London:20241127T230000
DTSTAMP:20260425T002923
CREATED:20240718T174307Z
LAST-MODIFIED:20240720T110819Z
UID:33471-1732734000-1732748400@groovement.co.uk
SUMMARY:Shabaka / Albert Hall
DESCRIPTION:On the 27th of November\, musician\, composer + bandleader (formerly of Sons of Kemet and The Comet Is Coming)\, SHABAKA aka Shabaka Hutchings is coming to Albert Hall\, following the release of his divine new album ‘Perceive Its Beauty\, Acknowledge Its Grace’ which is the result of a collaborative process between himself and a number of creative musicians including Moses Sumney\, Floating Points\, Lianne La Havas and many more! \n\n\n\n\n\n\n\n\n\n\n\n\n\n\n\n\n\n\nBoost the signal:\n				Click to share on X (Opens in new window)\n				X\n			\n				Click to share on Facebook (Opens in new window)\n				Facebook\n			\n				Click to share on WhatsApp (Opens in new window)\n				WhatsApp
URL:https://groovement.co.uk/listing/shabaka-albert-hall/
LOCATION:Albert Hall\, 27 Peter St\, Manchester\, M2 5QR
CATEGORIES:JAZZ GIGS,Live Gig
ATTACH;FMTTYPE=image/jpeg:https://groovement.co.uk/wp-content/uploads/2024/07/GRZ2fL-XYAEYwTn.jpeg
END:VEVENT
BEGIN:VEVENT
DTSTART;TZID=Europe/London:20241125T200000
DTEND;TZID=Europe/London:20241125T200000
DTSTAMP:20260425T002923
CREATED:20240711T113109Z
LAST-MODIFIED:20240720T110827Z
UID:33356-1732564800-1732564800@groovement.co.uk
SUMMARY:KOKOROKO / New Century
DESCRIPTION:Kokoroko channel the greats of West Africa through a jazz-rooted approach\, building on the foundations laid by Fela Kuti\, Tony Allen and Ebo Taylor; they lace interrelated influences together into a soul shaking\, horn fueled sound. They draw from the music they grew up with\, the echoes of Afrobeat and highlife heard in melodies\, drum patterns and harmonised vocals. \n\n\n\n\n\n\n\n\n\n\n\n\n\n\n\n\n\n\n\n\nBoost the signal:\n				Click to share on X (Opens in new window)\n				X\n			\n				Click to share on Facebook (Opens in new window)\n				Facebook\n			\n				Click to share on WhatsApp (Opens in new window)\n				WhatsApp
URL:https://groovement.co.uk/listing/kokoroko-new-century/
LOCATION:New Century Hall\, 34 Hanover St\, Manchester\, M4 4AH
CATEGORIES:JAZZ GIGS,Live Gig
ATTACH;FMTTYPE=image/png:https://groovement.co.uk/wp-content/uploads/2024/07/mail-7.png
END:VEVENT
BEGIN:VEVENT
DTSTART;TZID=Europe/London:20241019T190000
DTEND;TZID=Europe/London:20241019T190000
DTSTAMP:20260425T002923
CREATED:20240721T184204Z
LAST-MODIFIED:20240721T184207Z
UID:33519-1729364400-1729364400@groovement.co.uk
SUMMARY:Ishmael Ensemble / Gorilla
DESCRIPTION:Boost the signal:\n				Click to share on X (Opens in new window)\n				X\n			\n				Click to share on Facebook (Opens in new window)\n				Facebook\n			\n				Click to share on WhatsApp (Opens in new window)\n				WhatsApp
URL:https://groovement.co.uk/listing/ishmael-ensemble-gorilla/
LOCATION:Gorilla\, 54-56 Whitworth St W\, Manchester\, M1 5WW
CATEGORIES:JAZZ GIGS
END:VEVENT
BEGIN:VEVENT
DTSTART;TZID=Europe/London:20241015T190000
DTEND;TZID=Europe/London:20241015T230000
DTSTAMP:20260425T002923
CREATED:20240718T191933Z
LAST-MODIFIED:20240721T190929Z
UID:33478-1729018800-1729033200@groovement.co.uk
SUMMARY:Kamasi Washington / Albert Hall
DESCRIPTION:Multi-instrumentalist\, composer and bandleader born and raised in Los Angeles\, Kamasi Washington is taking to our stage on the 15th of October\, following the release of his new album\, ‘Fearless Movement’! \n\n\n\nWashington has toured the world over and collaborated / shared stages with the likes of Kendrick Lamar\, Florence + the Machine\, Herbie Hancock—with whom he will curate the Hollywood Bowl Jazz Fest for the second year in a row—and many more. \n\n\n\n\n\n\n\n\n\n\nBoost the signal:\n				Click to share on X (Opens in new window)\n				X\n			\n				Click to share on Facebook (Opens in new window)\n				Facebook\n			\n				Click to share on WhatsApp (Opens in new window)\n				WhatsApp
URL:https://groovement.co.uk/listing/kamasi-washington-albert-hall/
LOCATION:Albert Hall\, 27 Peter St\, Manchester\, M2 5QR
CATEGORIES:JAZZ GIGS,Live Gig
ATTACH;FMTTYPE=image/jpeg:https://groovement.co.uk/wp-content/uploads/2024/07/kamasi.jpg
END:VEVENT
BEGIN:VEVENT
DTSTART;TZID=Europe/London:20241007T190000
DTEND;TZID=Europe/London:20241007T190000
DTSTAMP:20260425T002923
CREATED:20240718T101153Z
LAST-MODIFIED:20240721T190935Z
UID:33466-1728327600-1728327600@groovement.co.uk
SUMMARY:Kessoncoda / YES
DESCRIPTION:West London’s Kessoncoda are the duo of drummer Tom Sunney and keyboardist Filip Sowa. Standing firm between acoustic tradition and electronica\, they are founded on a unique blend of melodic ostinato-laced piano and unwavering drums. Drawing on their array of musical interests\, Filip and Tom take influence from rock\, electronica\, ambient\, breakbeat and soundtracks for film and artists such as Squarepusher\, Radiohead and Clark all hot-housed in their unique studio set-up\, a shed at the bottom of Tom’s garden. \n\n\n\n\n\n\n\n\n\nLike former and present Gondwana Records label mates such as GoGo Penguin and Portico Quartet there’s something strongly cinematic about Kessoncoda’s music\, like a narrative arc which unfolds through different themes and moods\, with an ebb-and-flow of intensity\, as breath-taking swells of melody burst into being\, eventually to resolve in a wondrous climax. \n\n\n\nTheir debut album ‘Outerstate’ is out now. \n\n\n\n\n\n\n\n\n\n\n\n\n\n\nBoost the signal:\n				Click to share on X (Opens in new window)\n				X\n			\n				Click to share on Facebook (Opens in new window)\n				Facebook\n			\n				Click to share on WhatsApp (Opens in new window)\n				WhatsApp
URL:https://groovement.co.uk/listing/kessoncoda-yes/
LOCATION:YES\, 38 Charles Street\, Manchester\, M1 7DB
CATEGORIES:JAZZ GIGS
ATTACH;FMTTYPE=image/jpeg:https://groovement.co.uk/wp-content/uploads/2024/07/KESS-1.jpg
END:VEVENT
BEGIN:VEVENT
DTSTART;TZID=Europe/London:20241002T190000
DTEND;TZID=Europe/London:20241002T190000
DTSTAMP:20260425T002923
CREATED:20240709T235622Z
LAST-MODIFIED:20240721T190942Z
UID:33172-1727895600-1727895600@groovement.co.uk
SUMMARY:Jaubi & Tara Lily
DESCRIPTION:Read about new single Forgive Me here.  \n\n\n\n\n\n\n\nStep into a world of transcendental musical fusion with Jaubi and Tara Lily \n\n\n\nPoster by Taxi Cab Industries who also did the South Asians Against Apartheid badges.  \n\n\n\nHailing from Lahore\, Pakistan\, Jaubi are an instrumental outfit who defy genre boundaries with their fluid and dynamic sound. The band – made up of Ali Riaz Baqar (guitar and composer)\, Zohaib Hassan Khan (sarangi) and Kashif Ali Dhani (tablas and percussion) – embody the spirit of “whatever/whoever” crafting sounds that resonate deeply and universally. \n\n\n\nJaubi perform alongside Tara Lily\, a South-London\, British Bengali musician whose eclectic style stitches together R&B\, jazz\, electronic\, and traditional sounds – creating something entirely her own . The rising star – who doubles as a classically trained jazz musician – has expanded on her sound recently\, working with collaborators like Theo Croker and King Krule. \n\n\n\nJaubi unveil their highly anticipated sophomore album A Sound Heart in summer 2024 via their own imprint\, Riaz Records. Inspired by a verse from the Holy Qur’an (26:89)\, A Sound Heart explores the concept of a spiritually healthy and content heart\, rooted in love and sincerity. \n\n\n\nJoin Jaubi on their incredible musical journey\, where meditative ragas blend seamlessly with Herbie Hancock-esque motifs\, contemporary melodies intertwine with the intricate sounds of the sarangi\, and the earthy rhythms of the tabla create a rich tapestry of sound. \n\n\n\nThis performance\, presented in collaboration with Dialled In\, celebrates the depths of South Asian artistry. \n\n\n\n\n\n\n\n\n\n\nBoost the signal:\n				Click to share on X (Opens in new window)\n				X\n			\n				Click to share on Facebook (Opens in new window)\n				Facebook\n			\n				Click to share on WhatsApp (Opens in new window)\n				WhatsApp
URL:https://groovement.co.uk/listing/jaubi-tara-lily-aviva-studios/
LOCATION:Aviva Studios\, The Warehouse\, Aviva Studios\, Water Street\, Manchester\, M3 4JQ
CATEGORIES:JAZZ GIGS,Live Gig
ATTACH;FMTTYPE=image/jpeg:https://groovement.co.uk/wp-content/uploads/2024/07/Snapinsta.app_448463438_18006895778607350_805274966521763681_n_1080.jpg
END:VEVENT
BEGIN:VEVENT
DTSTART;TZID=Europe/London:20240815T190000
DTEND;TZID=Europe/London:20240815T190000
DTSTAMP:20260425T002923
CREATED:20240721T191719Z
LAST-MODIFIED:20240725T111339Z
UID:33525-1723748400-1723748400@groovement.co.uk
SUMMARY:Marcos Valle / Blues Kitchen
DESCRIPTION:An early listen to material from his new album T​ú​nel Acustico\, read more here.  \n\n\n\n\n\n\n\n\n\n\n\n\n\n\n\n\n\n\nBoost the signal:\n				Click to share on X (Opens in new window)\n				X\n			\n				Click to share on Facebook (Opens in new window)\n				Facebook\n			\n				Click to share on WhatsApp (Opens in new window)\n				WhatsApp
URL:https://groovement.co.uk/listing/marcos-valle-blues-kitchen/
LOCATION:The Blues Kitchen\, 13 Quay St\, Manchester\, M3 3HN\, United Kingdom
CATEGORIES:JAZZ GIGS,SOUL GIGS
ATTACH;FMTTYPE=image/jpeg:https://groovement.co.uk/wp-content/uploads/2024/07/marcos-1.jpg
END:VEVENT
BEGIN:VEVENT
DTSTART;TZID=Europe/London:20240728T190000
DTEND;TZID=Europe/London:20240728T190000
DTSTAMP:20260425T002923
CREATED:20240523T171839Z
LAST-MODIFIED:20240721T191032Z
UID:32956-1722193200-1722193200@groovement.co.uk
SUMMARY:Tank and The Bangas
DESCRIPTION:Tank and The Bangas are one of the most thrilling\, unpredictable and sonically diverse bands on the planet; a unit where jazz meets hip hop\, soul meets rock\, and funk is the beating heart of everything they do. \n\n\n\nTheir newfound critical acclaim and global notoriety\, following their NPR’s Tiny Desk\, has resulted in collaborations with the likes of Robert Glasper\, Jacob Collier\, Kimbra\, Moonchild\, Big Freedia\, Jack Splash\, Mark Batson and more. \n\n\n\nThe 3x Grammy-nominated band revolves around vocalist and songwriter Tarriona “Tank” Ball who commands every performance with her powerful voice and magnetic stage presence. \n\n\n\nTheir mixture of genres is unlike anything else in the ether right now\, but elements are close enough to Beyoncé\, Frank Ocean\, Flying Lotus and Kendrick Lamar. \n\n\n\n\n\n\n\n\n\n\nBoost the signal:\n				Click to share on X (Opens in new window)\n				X\n			\n				Click to share on Facebook (Opens in new window)\n				Facebook\n			\n				Click to share on WhatsApp (Opens in new window)\n				WhatsApp
URL:https://groovement.co.uk/listing/tank-and-the-bangas/
LOCATION:The Blues Kitchen\, 13 Quay St\, Manchester\, M3 3HN\, United Kingdom
CATEGORIES:JAZZ GIGS,Live Gig,SOUL GIGS
END:VEVENT
BEGIN:VEVENT
DTSTART;TZID=Europe/London:20240726T190000
DTEND;TZID=Europe/London:20240726T190000
DTSTAMP:20260425T002923
CREATED:20240712T190213Z
LAST-MODIFIED:20240721T191045Z
UID:33382-1722020400-1722020400@groovement.co.uk
SUMMARY:Jamie Finlay album launch + Kemani Anderson / Deaf Institute
DESCRIPTION:Jamie Finlay returns with his debut LP\, “Sun Dogs\,” recorded between 2021 and 2023\, featuring collaborations with various talented musicians. Jamie is set to perform live with a 7-piece band\, including many album collaborators\, at the Deaf Institute for the album’s release party. \n\n\n\nJamie Finlay\, an award-winning songwriter\, multi-instrumentalist\, and producer based in Manchester\, has a rich history of fusing genres such as soul\, jazz\, broken beat\, funk\, spoken-word\, deep house\, and hip hop in his early releases. His music has received critical acclaim\, sold-out shows at London’s Jazz Café\, and support from renowned artists and DJs like Gilles Peterson and Mr. Scruff. \n\n\n\nSupport will come from Kemani Anderson in a rare solo outing. Kemani is a 23 year old singer from Manchester. Co-founder\, lead vocalist and songwriter of the band Secret Night Gang. He is influenced by an array of genres including jazz\, funk\, soul\, R&B\, hip hop and gospel\, and by artists such as Donny Hathaway\, Al Jarreau\, Chaka Khan\, Bilal and Prince. \n\n\n\nBUY SUN DOGS ON BANDCAMP \n\n\n\n\n\n\n\n\n\n\n\n\n\n\nBoost the signal:\n				Click to share on X (Opens in new window)\n				X\n			\n				Click to share on Facebook (Opens in new window)\n				Facebook\n			\n				Click to share on WhatsApp (Opens in new window)\n				WhatsApp
URL:https://groovement.co.uk/listing/jamie-finlay-album-launch-kemani-anderson-deaf-institute/
LOCATION:The Deaf Institute\, 135 Grosvenor St\, Manchester\, M1 7HE
CATEGORIES:JAZZ GIGS,Live Gig,SOUL GIGS
ATTACH;FMTTYPE=image/png:https://groovement.co.uk/wp-content/uploads/2024/07/jf-1.png
END:VEVENT
END:VCALENDAR