

BEGIN:VCALENDAR
VERSION:2.0
PRODID:-//groovement - ECPv6.15.20//NONSGML v1.0//EN
CALSCALE:GREGORIAN
METHOD:PUBLISH
X-WR-CALNAME:groovement
X-ORIGINAL-URL:https://groovement.co.uk
X-WR-CALDESC:Events for groovement
REFRESH-INTERVAL;VALUE=DURATION:PT1H
X-Robots-Tag:noindex
X-PUBLISHED-TTL:PT1H
BEGIN:VTIMEZONE
TZID:Europe/London
BEGIN:DAYLIGHT
TZOFFSETFROM:+0000
TZOFFSETTO:+0100
TZNAME:BST
DTSTART:20220327T010000
END:DAYLIGHT
BEGIN:STANDARD
TZOFFSETFROM:+0100
TZOFFSETTO:+0000
TZNAME:GMT
DTSTART:20221030T010000
END:STANDARD
BEGIN:DAYLIGHT
TZOFFSETFROM:+0000
TZOFFSETTO:+0100
TZNAME:BST
DTSTART:20230326T010000
END:DAYLIGHT
BEGIN:STANDARD
TZOFFSETFROM:+0100
TZOFFSETTO:+0000
TZNAME:GMT
DTSTART:20231029T010000
END:STANDARD
BEGIN:DAYLIGHT
TZOFFSETFROM:+0000
TZOFFSETTO:+0100
TZNAME:BST
DTSTART:20240331T010000
END:DAYLIGHT
BEGIN:STANDARD
TZOFFSETFROM:+0100
TZOFFSETTO:+0000
TZNAME:GMT
DTSTART:20241027T010000
END:STANDARD
END:VTIMEZONE
BEGIN:VEVENT
DTSTART;TZID=Europe/London:20231021T220000
DTEND;TZID=Europe/London:20231022T030000
DTSTAMP:20260422T065802
CREATED:20231019T151259Z
LAST-MODIFIED:20231019T151934Z
UID:32171-1697925600-1697943600@groovement.co.uk
SUMMARY:Sheffield: Phonetics x Def Pressé x Group Bracil - Call and Response
DESCRIPTION:A Hip Hop 50 special from the legendary Sheffield club night\, teaming up with underground labels Def Pressé and Group Bracil.  \n\n\n\n\n\n\n\n\n\n\n\n\n\n\nBoost the signal:\n				Click to share on X (Opens in new window)\n				X\n			\n				Click to share on Facebook (Opens in new window)\n				Facebook\n			\n				Click to share on WhatsApp (Opens in new window)\n				WhatsApp
URL:https://groovement.co.uk/listing/sheffield-phonetics-x-def-presse-x-group-bracil-call-and-response/
LOCATION:Bal Fashions Sheffield\, 16 Exchange St\, Sheffield\, S2 5TR\, United Kingdom
CATEGORIES:Club Night
ATTACH;FMTTYPE=image/jpeg:https://groovement.co.uk/wp-content/uploads/2023/10/752075db-0996-491b-91c3-45c5595065fe-1.jpg
END:VEVENT
BEGIN:VEVENT
DTSTART;TZID=Europe/London:20231028T130000
DTEND;TZID=Europe/London:20231028T170000
DTSTAMP:20260422T065802
CREATED:20231008T195537Z
LAST-MODIFIED:20231008T195538Z
UID:32133-1698498000-1698512400@groovement.co.uk
SUMMARY:An Afternoon of DILLA / Low Four Studio
DESCRIPTION:Vice Beats and the University of Bristol have set up a Dilla event to fundraise for the James Dewitt Yancey Foundation. Free entry\, no tickets needed\, over at Low Four Studio in Manchester (go up the stairs into Great Northern opposite the Hilton on Deansgate).  \n\n\n\n\n\n\n\n\n\n\n\n\n\n\nBoost the signal:\n				Click to share on X (Opens in new window)\n				X\n			\n				Click to share on Facebook (Opens in new window)\n				Facebook\n			\n				Click to share on WhatsApp (Opens in new window)\n				WhatsApp
URL:https://groovement.co.uk/listing/an-afternoon-of-dilla-low-four-studio/
LOCATION:LOW FOUR\, Manchester\, M3 4EN
CATEGORIES:Club Night,Social
ATTACH;FMTTYPE=image/jpeg:https://groovement.co.uk/wp-content/uploads/2023/10/DILLA-2023-scaled.jpeg
END:VEVENT
BEGIN:VEVENT
DTSTART;TZID=Europe/London:20231028T200000
DTEND;TZID=Europe/London:20231028T200000
DTSTAMP:20260422T065802
CREATED:20231008T194924Z
LAST-MODIFIED:20231008T194925Z
UID:32131-1698523200-1698523200@groovement.co.uk
SUMMARY:Hip Hop Halloween / Freight Island
DESCRIPTION:Peter Parker (Fingathing)\, Danny Drive Thru and I team up with DJ Rasp (doing an AV set) for some Halloween hip hop fun at Freight. Free tickets.  \n\n\n\n\n\n\n\n\n\n\n\n\n\n\nBoost the signal:\n				Click to share on X (Opens in new window)\n				X\n			\n				Click to share on Facebook (Opens in new window)\n				Facebook\n			\n				Click to share on WhatsApp (Opens in new window)\n				WhatsApp
URL:https://groovement.co.uk/listing/hip-hop-halloween-freight-island/
LOCATION:Escape To Freight Island\, Manchester\, M1 2PZ
CATEGORIES:Club Night
ATTACH;FMTTYPE=image/png:https://groovement.co.uk/wp-content/uploads/2023/10/HALLOWEEN.png
END:VEVENT
END:VCALENDAR