

BEGIN:VCALENDAR
VERSION:2.0
PRODID:-//groovement - ECPv6.15.20//NONSGML v1.0//EN
CALSCALE:GREGORIAN
METHOD:PUBLISH
X-WR-CALNAME:groovement
X-ORIGINAL-URL:https://groovement.co.uk
X-WR-CALDESC:Events for groovement
REFRESH-INTERVAL;VALUE=DURATION:PT1H
X-Robots-Tag:noindex
X-PUBLISHED-TTL:PT1H
BEGIN:VTIMEZONE
TZID:Europe/London
BEGIN:DAYLIGHT
TZOFFSETFROM:+0000
TZOFFSETTO:+0100
TZNAME:BST
DTSTART:20200329T010000
END:DAYLIGHT
BEGIN:STANDARD
TZOFFSETFROM:+0100
TZOFFSETTO:+0000
TZNAME:GMT
DTSTART:20201025T010000
END:STANDARD
BEGIN:DAYLIGHT
TZOFFSETFROM:+0000
TZOFFSETTO:+0100
TZNAME:BST
DTSTART:20210328T010000
END:DAYLIGHT
BEGIN:STANDARD
TZOFFSETFROM:+0100
TZOFFSETTO:+0000
TZNAME:GMT
DTSTART:20211031T010000
END:STANDARD
BEGIN:DAYLIGHT
TZOFFSETFROM:+0000
TZOFFSETTO:+0100
TZNAME:BST
DTSTART:20220327T010000
END:DAYLIGHT
BEGIN:STANDARD
TZOFFSETFROM:+0100
TZOFFSETTO:+0000
TZNAME:GMT
DTSTART:20221030T010000
END:STANDARD
END:VTIMEZONE
BEGIN:VEVENT
DTSTART;TZID=Europe/London:20210823T190000
DTEND;TZID=Europe/London:20210823T190000
DTSTAMP:20260422T095112
CREATED:20210817T004623Z
LAST-MODIFIED:20210817T004624Z
UID:30411-1629745200-1629745200@groovement.co.uk
SUMMARY:NQ Jazz: Andre Canniere
DESCRIPTION:Andre Canniere is an acclaimed trumpet player\, composer and educator currently based in London. Originally from rural Pennsylvania\, Canniere spent the first five years of his career in New York City where he worked with artists such as Maria Schneider\, Becca Stevens\, Donny McCaslin\, Kate McGarry\, Ingrid Jensen and Darcy James Argue. He has toured widely throughout the United States and Europe with performances at Southbank Centre\, Wigmore Hall\, Carnegie Hall\, the Barbican\, Birdland\, the London Jazz Festival\, The Hague Jazz Festival\, The Manchester Jazz Festival and the Rochester International Jazz Festival. \n\n\n\nIn February 2020\, Canniere followed up his acclaimed 2016 album The Darkening Blue with  Ghost Days\, reuniting with singer Brigitte Beraha and saxophonist Tori Freestone\, whilst introducing a new\, all-star rhythm team of Rick Simpson (piano) Tom Farmer (bass) and Andrew Bain (drums). Six of the album’s seven original compositions were inspired by a unique collaboration between Andre and the poets/writers Malika Booker and Rebecca Lynch. Each piece had a poem as its starting point\, defining the overall mood and the rhythm and phrasing of the melody\, and the emotional message of the lyrics is beautifully delivered by Beraha to create a unity of atmosphere throughout the album. \n\n\n\nAs a composer\, Canniere has been described as an “imaginative newcomer” whose music is “audaciously crafted” and “shows glimpses of an unusual fluency and freedom within the context of a dense and rhythmically intricate contemporary-jazz sound” (Guardian). Jazzwise Magazine states that “Canniere’s compositions contrast breezy folky jazz elements with a darker harmonic language that draws from Radiohead and a rawer rock-ish groove-based approach straight out of the New York alt jazz scene”. Canniere’s music has been played on radio stations across the world including BBC Radio 2 and Radio 3 (UK)\, RTE Lyric fm (Ireland)\, Radio Cardiff (Wales) and Radio Bremen (Germany). \n\n\n\nAndre Canniere // Trumpet \n\n\n\nBrigitte Beraha // Voice \n\n\n\nTori Freestone // Saxophone \n\n\n\nRick Simpson // Piano \n\n\n\nTom Farmer // Bass \n\n\n\nAndrew Bain // Drums \n\n\n\n\n\n\n\n\n\n\nBoost the signal:\n				Click to share on X (Opens in new window)\n				X\n			\n				Click to share on Facebook (Opens in new window)\n				Facebook\n			\n				Click to share on WhatsApp (Opens in new window)\n				WhatsApp
URL:https://groovement.co.uk/listing/nq-jazz-andre-canniere/
LOCATION:The Yard\, 11 Bent Street\, Manchester\, M8 8NF
END:VEVENT
END:VCALENDAR