

BEGIN:VCALENDAR
VERSION:2.0
PRODID:-//groovement - ECPv6.15.20//NONSGML v1.0//EN
CALSCALE:GREGORIAN
METHOD:PUBLISH
X-WR-CALNAME:groovement
X-ORIGINAL-URL:https://groovement.co.uk
X-WR-CALDESC:Events for groovement
REFRESH-INTERVAL;VALUE=DURATION:PT1H
X-Robots-Tag:noindex
X-PUBLISHED-TTL:PT1H
BEGIN:VTIMEZONE
TZID:Europe/London
BEGIN:DAYLIGHT
TZOFFSETFROM:+0000
TZOFFSETTO:+0100
TZNAME:BST
DTSTART:20200329T010000
END:DAYLIGHT
BEGIN:STANDARD
TZOFFSETFROM:+0100
TZOFFSETTO:+0000
TZNAME:GMT
DTSTART:20201025T010000
END:STANDARD
BEGIN:DAYLIGHT
TZOFFSETFROM:+0000
TZOFFSETTO:+0100
TZNAME:BST
DTSTART:20210328T010000
END:DAYLIGHT
BEGIN:STANDARD
TZOFFSETFROM:+0100
TZOFFSETTO:+0000
TZNAME:GMT
DTSTART:20211031T010000
END:STANDARD
BEGIN:DAYLIGHT
TZOFFSETFROM:+0000
TZOFFSETTO:+0100
TZNAME:BST
DTSTART:20220327T010000
END:DAYLIGHT
BEGIN:STANDARD
TZOFFSETFROM:+0100
TZOFFSETTO:+0000
TZNAME:GMT
DTSTART:20221030T010000
END:STANDARD
END:VTIMEZONE
BEGIN:VEVENT
DTSTART;TZID=Europe/London:20210817T080000
DTEND;TZID=Europe/London:20210817T170000
DTSTAMP:20260421T104823
CREATED:20210817T004831Z
LAST-MODIFIED:20210817T004831Z
UID:30415-1629187200-1629219600@groovement.co.uk
SUMMARY:NQ Jazz: Misha Mullov-Abbado
DESCRIPTION:Winner of the 2014 Kenny Wheeler Jazz Prize\, Misha Mullov-Abbado is an in-demand bass player\, composer and arranger based in London. He is a 2017 BBC Radio 3 New Generation Artist\, a 2014 City of Music Foundation Artist\, and has released three albums on Edition Records as a band-leader and composer: Dream Circus (2020)\, Cross-Platform Interchange (2017)\, New Ansonia (2015)\, all of which have been extremely well-received\, and the latter of which has been included in “Best Jazz Albums of 2015” by The Telegraph and BBC Radio 3. \n\n\n\n\n\n\n\n\n\n\nBoost the signal:\n				Click to share on X (Opens in new window)\n				X\n			\n				Click to share on Facebook (Opens in new window)\n				Facebook\n			\n				Click to share on WhatsApp (Opens in new window)\n				WhatsApp
URL:https://groovement.co.uk/listing/nq-jazz-misha-mullov-abbado/
LOCATION:The Yard\, 11 Bent Street\, Manchester\, M8 8NF
END:VEVENT
BEGIN:VEVENT
DTSTART;TZID=Europe/London:20210817T193000
DTEND;TZID=Europe/London:20210817T193000
DTSTAMP:20260421T104823
CREATED:20210817T001813Z
LAST-MODIFIED:20210817T001813Z
UID:30388-1629228600-1629228600@groovement.co.uk
SUMMARY:Mahalia
DESCRIPTION:Multi BRIT Award nominated UK singer-songwriter Mahalia makes a very special live appearance at Manchester’s Gorilla on 17 August 2021 as part of the Music Venue Trust REVIVE LIVE campaign. \n\n\n\n\n\n\n\n\n\n\nBoost the signal:\n				Click to share on X (Opens in new window)\n				X\n			\n				Click to share on Facebook (Opens in new window)\n				Facebook\n			\n				Click to share on WhatsApp (Opens in new window)\n				WhatsApp
URL:https://groovement.co.uk/listing/mahalia/
LOCATION:Gorilla\, 54-56 Whitworth St W\, Manchester\, M1 5WW
CATEGORIES:Live Gig
ATTACH;FMTTYPE=image/jpeg:https://groovement.co.uk/wp-content/uploads/2021/08/mahalia.jpeg
END:VEVENT
END:VCALENDAR