

BEGIN:VCALENDAR
VERSION:2.0
PRODID:-//groovement - ECPv6.15.20//NONSGML v1.0//EN
CALSCALE:GREGORIAN
METHOD:PUBLISH
X-ORIGINAL-URL:https://groovement.co.uk
X-WR-CALDESC:Events for groovement
REFRESH-INTERVAL;VALUE=DURATION:PT1H
X-Robots-Tag:noindex
X-PUBLISHED-TTL:PT1H
BEGIN:VTIMEZONE
TZID:Europe/London
BEGIN:DAYLIGHT
TZOFFSETFROM:+0000
TZOFFSETTO:+0100
TZNAME:BST
DTSTART:20200329T010000
END:DAYLIGHT
BEGIN:STANDARD
TZOFFSETFROM:+0100
TZOFFSETTO:+0000
TZNAME:GMT
DTSTART:20201025T010000
END:STANDARD
BEGIN:DAYLIGHT
TZOFFSETFROM:+0000
TZOFFSETTO:+0100
TZNAME:BST
DTSTART:20210328T010000
END:DAYLIGHT
BEGIN:STANDARD
TZOFFSETFROM:+0100
TZOFFSETTO:+0000
TZNAME:GMT
DTSTART:20211031T010000
END:STANDARD
BEGIN:DAYLIGHT
TZOFFSETFROM:+0000
TZOFFSETTO:+0100
TZNAME:BST
DTSTART:20220327T010000
END:DAYLIGHT
BEGIN:STANDARD
TZOFFSETFROM:+0100
TZOFFSETTO:+0000
TZNAME:GMT
DTSTART:20221030T010000
END:STANDARD
END:VTIMEZONE
BEGIN:VEVENT
DTSTART;VALUE=DATE:20210616
DTEND;VALUE=DATE:20210617
DTSTAMP:20260421T153151
CREATED:20210407T233615Z
LAST-MODIFIED:20210407T233641Z
UID:29849-1623819600-1623887999@groovement.co.uk
SUMMARY:Secret Night Gang
DESCRIPTION:Boost the signal:\n				Click to share on X (Opens in new window)\n				X\n			\n				Click to share on Facebook (Opens in new window)\n				Facebook\n			\n				Click to share on WhatsApp (Opens in new window)\n				WhatsApp
URL:https://groovement.co.uk/listing/secret-night-gang/
LOCATION:The Blues Kitchen\, 13 Quay St\, Manchester\, M3 3HN\, United Kingdom
CATEGORIES:Live Gig
ATTACH;FMTTYPE=image/jpeg:https://groovement.co.uk/wp-content/uploads/2021/04/sng.jpg
END:VEVENT
END:VCALENDAR