

BEGIN:VCALENDAR
VERSION:2.0
PRODID:-//groovement - ECPv6.15.20//NONSGML v1.0//EN
CALSCALE:GREGORIAN
METHOD:PUBLISH
X-WR-CALNAME:groovement
X-ORIGINAL-URL:https://groovement.co.uk
X-WR-CALDESC:Events for groovement
REFRESH-INTERVAL;VALUE=DURATION:PT1H
X-Robots-Tag:noindex
X-PUBLISHED-TTL:PT1H
BEGIN:VTIMEZONE
TZID:Europe/London
BEGIN:DAYLIGHT
TZOFFSETFROM:+0000
TZOFFSETTO:+0100
TZNAME:BST
DTSTART:20200329T010000
END:DAYLIGHT
BEGIN:STANDARD
TZOFFSETFROM:+0100
TZOFFSETTO:+0000
TZNAME:GMT
DTSTART:20201025T010000
END:STANDARD
BEGIN:DAYLIGHT
TZOFFSETFROM:+0000
TZOFFSETTO:+0100
TZNAME:BST
DTSTART:20210328T010000
END:DAYLIGHT
BEGIN:STANDARD
TZOFFSETFROM:+0100
TZOFFSETTO:+0000
TZNAME:GMT
DTSTART:20211031T010000
END:STANDARD
BEGIN:DAYLIGHT
TZOFFSETFROM:+0000
TZOFFSETTO:+0100
TZNAME:BST
DTSTART:20220327T010000
END:DAYLIGHT
BEGIN:STANDARD
TZOFFSETFROM:+0100
TZOFFSETTO:+0000
TZNAME:GMT
DTSTART:20221030T010000
END:STANDARD
END:VTIMEZONE
BEGIN:VEVENT
DTSTART;TZID=Europe/London:20210429T193000
DTEND;TZID=Europe/London:20210429T211500
DTSTAMP:20260421T200441
CREATED:20210413T223425Z
LAST-MODIFIED:20210413T225024Z
UID:29953-1619724600-1619730900@groovement.co.uk
SUMMARY:Four Women @ online
DESCRIPTION:The Untold Orchestra perform music of black classical composers in a unique collaboration with DJ Paulette\, poet Shirley May\, circus performer Seren Marimba\, dancer Maisha Kungu and singer Yemi Bolatiwa. Hosted by Jenna G the performance will be followed by a discussion on the themes and issues presented in the Nina Simone track ‘Four Women’. \n\n\n\nYou will be emailed the link to the stream several days before the performance.  \n\n\n\n\n\n\nBoost the signal:\n				Click to share on X (Opens in new window)\n				X\n			\n				Click to share on Facebook (Opens in new window)\n				Facebook\n			\n				Click to share on WhatsApp (Opens in new window)\n				WhatsApp
URL:https://groovement.co.uk/listing/four-women-online/
LOCATION:Online
ATTACH;FMTTYPE=image/jpeg:https://groovement.co.uk/wp-content/uploads/2021/04/4-women.jpeg
END:VEVENT
END:VCALENDAR